BEGIN:VCALENDAR
VERSION:2.0
PRODID:-//Les Associations Solidaris - ECPv6.15.13.1//NONSGML v1.0//EN
CALSCALE:GREGORIAN
METHOD:PUBLISH
X-WR-CALNAME:Les Associations Solidaris
X-ORIGINAL-URL:https://lesassociationssolidaris.be
X-WR-CALDESC:Évènements pour Les Associations Solidaris
REFRESH-INTERVAL;VALUE=DURATION:PT1H
X-Robots-Tag:noindex
X-PUBLISHED-TTL:PT1H
BEGIN:VTIMEZONE
TZID:UTC
BEGIN:STANDARD
TZOFFSETFROM:+0000
TZOFFSETTO:+0000
TZNAME:UTC
DTSTART:20220101T000000
END:STANDARD
END:VTIMEZONE
BEGIN:VEVENT
DTSTART;TZID=UTC:20231001T150000
DTEND;TZID=UTC:20231001T180000
DTSTAMP:20260419T232656
CREATED:20230821T140601Z
LAST-MODIFIED:20230821T140601Z
UID:10000923-1696172400-1696183200@lesassociationssolidaris.be
SUMMARY:Spectacle - Mozart versus Mozart à Liège
DESCRIPTION:Spectacle d’humour musical d’après une idée originale de Christophe Gillis et Bernard Vancraeynest avec les arrangements musicaux de Bernard Vancraeynest. \n \nLa famille Gillis est une famille d’artistes. Papa\, musicien professionnel\, transmet à ses enfants dès leur plus jeune âge le goût de la musique et du spectacle. Maman et Chloé (l’aînée de la fratrie) organisent l’agenda familial rythmé par les concerts\, les spectacles de danse et de comédies musicales\, les représentations théâtrales ainsi que par de nombreux tournages cinématographiques tant en Belgique qu’à l’étranger. Pour la petite histoire\, la famille profite du premier confinement pour mettre sur pied le projet musical « Mozart versus Mozart »\, spectacle que papa avait imaginé et créé en 2006. Forts de leur expérience de comédiens (Juliette et Martin ont notamment tourné plusieurs courts et longs-métrages en compagnie de Richard Anconina\, Didier Bourdon\, Valérie Karsenti\, Udo Kier\, …)\, ils se lancent le défi de remettre sur pied un véritable spectacle d’humour musical. Christophe endossera le rôle de Léopold Mozart et Juliette celui de Wolfgang Amadeus. Valentin et Martin se chargeront de l’accompagnement musical. \n\nModalités\nPublic : Dès 55 ans \nLieu : Liège \nDate : 01/10/2023 • 15h \nPrix : 15 € \n\nInscription\n1/ Inscrivez vous avant le 18/09/2023\nChantal Delecour : chantal.delecour@skynet.be – 0498 82 67 88 \n2/ Validez votre inscription\nUne fois que Chantal vous aura confirmé qu’il reste des places\, vous devrez verser votre participation sur le compte qu’elle vous indiquera. \n\n\n\n  \n\n\n\n\n\n\n\n\n\n\n\n\n\n\n\n\nRéseau Volontaires Solidaris\n\nAvenue Maurice Destenay 3\, 4000 Liège\n04/341 62 88 • volontaires.liege@solidaris.be\nDécouvrir d'autres activités du Réseau Volontaires Solidaris\n \nHoraire\n\nLes lundis\, mardis et jeudi de 9h à 12h et de 13h à 16h\,\nles mercredis et vendredis de 9h à 12h.\nFermé pendant les vacances d'été.\n ×
URL:https://lesassociationssolidaris.be/event/spectacle-mozart-versus-mozart-a-liege/
CATEGORIES:Adultes,B/ Partie Associations,Liages,Prochains rendez-vous Liages,Région Liège,Réseau Volontaires Solidaris,Seniors,Toutes les régions
ATTACH;FMTTYPE=image/png:https://lesassociationssolidaris.be/wp-content/uploads/2023/08/Mozart-Liege-2048-×-1365-px.png
ORGANIZER;CN="R%C3%A9seau Volontaires Solidaris - Li%C3%A8ge":MAILTO:volontaires.liege@solidaris.be
END:VEVENT
BEGIN:VEVENT
DTSTART;TZID=UTC:20231013T070000
DTEND;TZID=UTC:20231013T180000
DTSTAMP:20260419T232656
CREATED:20230920T135305Z
LAST-MODIFIED:20230920T135305Z
UID:10000955-1697180400-1697220000@lesassociationssolidaris.be
SUMMARY:Visite culturelle - Découverte de la ville de Roubaix
DESCRIPTION:Excursion d’une journée à Roubaix avec les Volontaires de Solidaris Liège. \n \nA programme\n10h00 – 11h00 :\nVisite guidée du musée de la Manufacture : musée de la mémoire et de la création textile. Ici\, le bruit des machines actionnées sous vos yeux vous plonge dans l’univers des usines textiles. Toutes les grandes innovations techniques et sociales qui ont révolutionné le tissage vous sont présentées. En une heure\, démonstration à l’appui\, vous comprendrez comment de la laine ou d’autres fibres naissent le fil puis le tissu. Vous pourrez aussi écouter l’histoire de celles et ceux qui ont participé et participent toujours à l’aventure textile. \n11h20 – 12h20 :\nTour panoramique de la ville en car. En compagnie d’un guide-conférencier\, vous découvrirez les incontournables du patrimoine roubaisien : l’hôtel de ville\, l’église St. Martin\, le parc de Barbieux et quelques exemples du patrimoine industriel réhabilité. \n12h30 – 14h15 :\nRepas de midi au restaurant « La Grande Brasserie de l’Impératrice Eugénie ». Dans un cadre chaleureux\, digne d’une grande brasserie parisienne\, en plein cœur de ville à proximité des commerces\, vous pourrez apprécier une cuisine traditionnelle et régionale de qualité. Entrée : Tatin d’endives au chèvre et caramel de cidre. Plat : Carbonnade flamande\, frites et salade. Dessert : Café gourmand avec 4 mignardises. Boissons comprises : au choix (Stella pression 25 cl – ¼ vin – ½ eau – jus de fruit ou soft) (Tout autre supplément à charge du participant) \n14h30 – 16h00 :\nVisite guidée du Musée de la Piscine de Roubaix. Celle que l’on appelait la plus belle piscine de France est devenue un musée unique et exceptionnel grâce à l’architecte\, Jean-Paul PHILIPPON. Les sculptures ont pris place au milieu du bassin et les cabines de douche sont devenues des vitrines d’exposition. Le Musée regroupe des collections des Beaux-arts appliqués et textiles constitués tout au long des 19e et 20e siècles. \n\nModalités\nPublic : Dès 55 ans \nDéparts : Liège (Guillemins)\, Ans (Pizza Hut)\nTransport : Autocar \nDate : 13/10/2023 • 10h \nPrix : 109 € \n\nInscription\n1/ Inscrivez vous avant le 13/10/2023\nChantal Delecour : chantal.delecour@skynet.be – 0498 82 67 88 \n2/ Validez votre inscription\nUne fois que Chantal vous aura confirmé qu’il reste des places\, vous devrez verser votre participation sur le compte suivant : BE91 1325 0466 5476 (ASBL FAM Liages) avec en communication : Roubaix et le nom du participant. \n\n\n\n  \n\n\n\n\n\n\n\n\n\n\n\n\n\n\n\n\nRéseau Volontaires Solidaris\n\nAvenue Maurice Destenay 3\, 4000 Liège\n04/341 62 88 • volontaires.liege@solidaris.be\nDécouvrir d'autres activités du Réseau Volontaires Solidaris\n \nHoraire\n\nLes lundis\, mardis et jeudi de 9h à 12h et de 13h à 16h\,\nles mercredis et vendredis de 9h à 12h.\nFermé pendant les vacances d'été.\n ×
URL:https://lesassociationssolidaris.be/event/visite-culturelle-decouverte-de-la-ville-de-roubaix/
LOCATION:Roubaix
CATEGORIES:Adultes,B/ Partie Associations,Liages,Prochains rendez-vous Liages,Région Liège,Réseau Volontaires Solidaris,Seniors,Toutes les régions
ATTACH;FMTTYPE=image/png:https://lesassociationssolidaris.be/wp-content/uploads/2023/09/Roubaix-Banner.png
ORGANIZER;CN="R%C3%A9seau Volontaires Solidaris - Li%C3%A8ge":MAILTO:volontaires.liege@solidaris.be
END:VEVENT
BEGIN:VEVENT
DTSTART;TZID=UTC:20231015T140000
DTEND;TZID=UTC:20231015T170000
DTSTAMP:20260419T232656
CREATED:20230914T105700Z
LAST-MODIFIED:20230914T105700Z
UID:10000944-1697378400-1697389200@lesassociationssolidaris.be
SUMMARY:Spectacle - La Revue Champagne à Liège
DESCRIPTION:Spectacle de cabaret musical du Trianon. Le bar à champagne sera accessible à l’entracte et après le spectacle. Les bénéfices du bar\, cocktail dinatoire et tombola serviront à offrir une journée à Plopsa Coo aux 40 enfants de la Maison Heureuse d’Ans. \n \n\nModalités\nPublic : Dès 55 ans \nLieu : Théâtre du Trianon (Liège) \nDate : 15/10/2023 • 14h \nPrix : 20 € \n\nInscription\n1/ Inscrivez vous avant le 07/10/2023\nAnne-Marie Van Oppen : amvoee@gmail.com ou par SMS au 0495 934 000 \n2/ Validez votre inscription\nUne fois que Anne-Marie vous aura confirmé qu’il reste des places\, vous devrez verser votre participation sur le compte qu’elle vous indiquera. \n\n\n\n  \n\n\n\n\n\n\n\n\n\n\n\n\n\n\n\n\nRéseau Volontaires Solidaris\n\nAvenue Maurice Destenay 3\, 4000 Liège\n04/341 62 88 • volontaires.liege@solidaris.be\nDécouvrir d'autres activités du Réseau Volontaires Solidaris\n \nHoraire\n\nLes lundis\, mardis et jeudi de 9h à 12h et de 13h à 16h\,\nles mercredis et vendredis de 9h à 12h.\nFermé pendant les vacances d'été.\n ×
URL:https://lesassociationssolidaris.be/event/spectacle-la-revue-champagne-a-liege/
CATEGORIES:Adultes,B/ Partie Associations,Liages,Prochains rendez-vous Liages,Région Liège,Réseau Volontaires Solidaris,Seniors,Toutes les régions
ATTACH;FMTTYPE=image/png:https://lesassociationssolidaris.be/wp-content/uploads/2023/09/Spectacle-Liege-2048-×-1365-px.png
ORGANIZER;CN="R%C3%A9seau Volontaires Solidaris - Li%C3%A8ge":MAILTO:volontaires.liege@solidaris.be
END:VEVENT
BEGIN:VEVENT
DTSTART;TZID=UTC:20231020T100000
DTEND;TZID=UTC:20231020T130000
DTSTAMP:20260419T232656
CREATED:20230920T131759Z
LAST-MODIFIED:20230920T131820Z
UID:10000954-1697796000-1697806800@lesassociationssolidaris.be
SUMMARY:Visite culturelle - Les Collégiales liégeoises en poésie et en chansons à Liège
DESCRIPTION:Tout au long de cette balade exceptionnelle\, vous redécouvrirez les collégiales liégeoises : Saint-Jean-l’Evangéliste avec les impressions de Victor Hugo et de Mathieu-Lambert Polain\, Saint-Denis et l’éducation musicale de Grétry\, Saint-Paul et Saint- Jacques avec les impressions laissées par les visiteurs célèbres et les grands écrivains tels Victor Hugo\, Gérard de Nerval. \n \n\nModalités\nPublic : Dès 55 ans \nDépart : Eglise Saint-Jacques (Place Saint-Jacques\, Liège) \nDate : 20/10/2023 • 10h \nPrix : 12 € \n\nInscription\n1/ Inscrivez vous avant le 13/10/2023\nChantal Delecour : chantal.delecour@skynet.be – 0498 82 67 88 \n2/ Validez votre inscription\nUne fois que Chantal vous aura confirmé qu’il reste des places\, vous devrez verser votre participation sur le compte qu’elle vous indiquera. \n\n\n\n  \n\n\n\n\n\n\n\n\n\n\n\n\n\n\n\n\nRéseau Volontaires Solidaris\n\nAvenue Maurice Destenay 3\, 4000 Liège\n04/341 62 88 • volontaires.liege@solidaris.be\nDécouvrir d'autres activités du Réseau Volontaires Solidaris\n \nHoraire\n\nLes lundis\, mardis et jeudi de 9h à 12h et de 13h à 16h\,\nles mercredis et vendredis de 9h à 12h.\nFermé pendant les vacances d'été.\n ×
URL:https://lesassociationssolidaris.be/event/visite-culturelle-les-collegiales-liegeoises-en-poesie-et-en-chansons-a-liege/
LOCATION:Eglise Saint-Jacques
CATEGORIES:Adultes,B/ Partie Associations,Balades santé,Liages,Prochains rendez-vous Liages,Région Liège,Réseau Volontaires Solidaris,Seniors,Toutes les régions
ATTACH;FMTTYPE=image/png:https://lesassociationssolidaris.be/wp-content/uploads/2023/09/Saint-Paul-Banner.png
ORGANIZER;CN="R%C3%A9seau Volontaires Solidaris - Li%C3%A8ge":MAILTO:volontaires.liege@solidaris.be
END:VEVENT
BEGIN:VEVENT
DTSTART;TZID=UTC:20231024T130000
DTEND;TZID=UTC:20231024T160000
DTSTAMP:20260419T232656
CREATED:20230717T190429Z
LAST-MODIFIED:20230727T071844Z
UID:10000876-1698152400-1698163200@lesassociationssolidaris.be
SUMMARY:Conférences et tables rondes : Un million d'aîné.es et autant d'idées pour l'avenir à La Hestre
DESCRIPTION:Pour échanger ensemble avant les élections\n\nSaviez-vous que ces dernières années\, le taux d’absentéisme aux élections n’a fait qu’augmenter ? Que les élections fédérales de 2019 ont enregistré un taux de « non-participation » au vote de 17% ? Que les seniors constituent une partie non négligeable de ces absents aux urnes ? \nS’il est vrai qu’une partie de ceux-ci s’en trouvent empêcher par un problème de santé\, il n’en reste pas moins que les autres raisons de leur absence sont identiques au reste de la population : rejet du système politique belge\, méfiance à l’égard des femmes et hommes politiques\, le sentiment que les politiques sont trop éloignés de la réalité et ne les représentent pas comme ils le devraient… « Pourquoi aller voter quand nous ne nous sentons pas représenté·es/écouté·es par ceux et celles qui nous gouvernent » ? \n  \n \nEn 2024\, nous irons voter pour les élections communales\, provinciales\, régionales\, fédérales et enfin européennes.  C’est donc plus que jamais le moment de se faire entendre et ce\, à tous les niveaux de pouvoir. \nParce qu’ « un million d’aîné·es\, c’est autant d’idées pour l’avenir »\, Liages propose une conférence suivie de tables rondes où vous pourrez échanger\, partager vos idées\, prendre position et formuler des revendications qui seront transmises au monde politique dans le cadre des élections 2024. \nVous voulez faire entendre VOTRE voix\, alors rejoignez-nous ! \nVous avez des choses à dire mais vous ne pouvez pas être des nôtres ?  Un questionnaire en ligne vous permettant de nous transmettre vos revendications est également disponible ici. \nN’hésitez pas à en parler autour de vous. Si « seul on va plus vite\, ensemble on va plus loin » ! \n  \n\nModalités\nPublic : + 18 ans \nDate : Mardi 24 octobre 2023 de 13h00 à 16h00 \nLieu : La Hestre (Permanence Solidaris – Rue Ferrer 114\, 7170 Manage) \nPrix : Gratuit \n\n> En savoir plus sur nos activités dans le cadre des élections \n\nInscription\nVia le 0492 45 33 03 ou l’adresse mail liages@solidaris.be ou via le formulaire en ligne ici.
URL:https://lesassociationssolidaris.be/event/conferences-et-tables-rondes-un-million-daine-es-et-autant-didees-pour-lavenir-lahestre/
CATEGORIES:Adultes,B/ Partie Associations,Elections,Liages,Prochains rendez-vous Liages,Région Charleroi Centre et Soignies,Seniors
ATTACH;FMTTYPE=image/png:https://lesassociationssolidaris.be/wp-content/uploads/2023/07/Site.png
ORGANIZER;CN="Liages":MAILTO:liages@solidaris.be
END:VEVENT
END:VCALENDAR