BEGIN:VCALENDAR
VERSION:2.0
PRODID:-//Les Associations Solidaris - ECPv6.15.13.1//NONSGML v1.0//EN
CALSCALE:GREGORIAN
METHOD:PUBLISH
X-ORIGINAL-URL:https://lesassociationssolidaris.be
X-WR-CALDESC:Évènements pour Les Associations Solidaris
REFRESH-INTERVAL;VALUE=DURATION:PT1H
X-Robots-Tag:noindex
X-PUBLISHED-TTL:PT1H
BEGIN:VTIMEZONE
TZID:UTC
BEGIN:STANDARD
TZOFFSETFROM:+0000
TZOFFSETTO:+0000
TZNAME:UTC
DTSTART:20230101T000000
END:STANDARD
END:VTIMEZONE
BEGIN:VEVENT
DTSTART;VALUE=DATE:20240302
DTEND;VALUE=DATE:20240303
DTSTAMP:20260419T201336
CREATED:20240213T153339Z
LAST-MODIFIED:20240221T082224Z
UID:10001363-1709337600-1709423999@lesassociationssolidaris.be
SUMMARY:Atelier - Les Samedis découverte à Liège
DESCRIPTION:Découvrir de nouveaux jeux et jouer en famille\n\nLatitude Ludo vous propose un nouveau rendez-vous autour des jeux de société. Un thème différent par rencontre et plusieurs tables de jeux simultanées ! Le tout animé par des ludothécaires professionnelles. \n \n\nModalités\nPublic : Enfants dès 3 ans (accompagnés)\, jeunes\, adultes\, familles… \nLieu : Latitude Ludo (Rue Edouard Remouchamps 2\, Liège) \nDates :\nLe 02/03/2024 de 10h à 17h\nLe 06/04/2024 de 10h à 17h\nLe 04/05/2024 de 10h à 17h\nLe 01/06/2024 de 10h à 17h \nPrix : Gratuit\n \n\nInscription souhaitée\n1/ Inscrivez-vous via\n04 340 68 66 • latitudeludo.liege@solidaris.be \n2/ Validez votre inscription\nVous serez recontactés pour confirmer votre inscription. \n\n\n\n  \n\n\n\n\n\n\n\n\n\n\n\n\n\n\n\n\nLatitude Ludo\n\nRue Edouard Remouchamps 2\, 4020 Liège\n04 342 73 13 • latitudeludo.liege@solidaris.be\n \nHoraire\n\nLes mercredis de 13h30 à 18h00 et les premiers samedis du mois de 10h00 à 17h00.\nFermé pendant les congés scolaires (stages).\n ×
URL:https://lesassociationssolidaris.be/event/atelier-les-samedis-decouverte-a-liege/2024-03-02/
LOCATION:Latitude Ludo (Les Associations Solidaris – Longdoz)\, Rue Edouard Remouchamps 2\, Liège\, Province de Liège\, 4020\, Belgique
CATEGORIES:Adultes,Enfants,Familles,Jeunes,Latitude Jeunes,Latitude Ludo,Parents,Prochains rendez-vous Latitude Jeunes,Région Liège,Seniors,Toutes les régions
ATTACH;FMTTYPE=image/png:https://lesassociationssolidaris.be/wp-content/uploads/2024/02/Les-Samedis-decouverte-1536-x-677-px.png
ORGANIZER;CN="Latitude Jeunes - Li%C3%A8ge":MAILTO:latitudejeunes.liege@solidaris.be
END:VEVENT
BEGIN:VEVENT
DTSTART;VALUE=DATE:20240302
DTEND;VALUE=DATE:20240310
DTSTAMP:20260419T201336
CREATED:20221209T094624Z
LAST-MODIFIED:20240301T083544Z
UID:10000578-1709337600-1710028799@lesassociationssolidaris.be
SUMMARY:Séjour Latitude Show ! à Coxyde
DESCRIPTION:Nous t’invitons\, le temps d’un séjour\, à découvrir les joies du spectacle\, du carnaval\, des déguisements et des animations festives ! \nEntre activités sportives et carnavalesques\, ton séjour Latitude fera son show !\nNous avons tout prévu : cuistax\, piscine\, activités et animations en lien avec le thème ainsi que la visite d’une journée au parc « Plopsaland ». \n  \n\nModalités\nPublic : 6-11 ans \nLogement : Le Lys Rouge (Coxyde – Belgique)\nPension complète \nDépart : Frameries et Tournai\nTransport : Autocar\nEtre sur place une demi-heure avant le départ pour l’embarquement \nDates : Du 02/03 au 09/03/24 \nPrix : 185 €* / 430 € • 7 nuitées\n* Prix affilié·e·s Solidaris Wallonie ou Solidaris Brabant en ordre de cotisation dans la limite des plafonds définis \n[accordion] \n[toggle title= »Inclus et pas inclus dans le prix »] \nInclus dans le prix \n\nAutocar (Aller/Retour)\nPension complète\n1 à 2 excursions\nL’encadrement de qualité assuré par nos animateurs\n\n[/toggle] \n[/accordion] \n\n> Retour à l’offre de vacances\n> Retour au site régional \n\nInscription\nCe séjour est complet. \n\n 
URL:https://lesassociationssolidaris.be/event/latitude-show-a-coxyde/
LOCATION:Le Lys Rouge / De Rode Lelie\, Parnassiusstraat 11\, Koksijde\, Flandre-Occidentale\, 8670\, Belgique
CATEGORIES:_A la une Vacances enfants et jeunes,_Toutes les Vacances enfants et jeunes,1/ Choix de région,2/ Choix de période vacances enfants et jeunes,2/ Entité,3/ Publics vacances enfants et jeunes,4/ Public,A/ Partie vacances enfants et jeunes,Congé de détente (Carnaval),Enfants,Enfants,Hainaut,Mons-WaPi,Prochains rendez-vous Latitude Jeunes,Séjours au départ de Frameries,Séjours au départ de Tournai,Séjours au Lys rouge
ATTACH;FMTTYPE=image/jpeg:https://lesassociationssolidaris.be/wp-content/uploads/2024/03/Acivite-LJ-complete-e1707985338900-1.jpg
ORGANIZER;CN="Latitude Jeunes - Mons %E2%80%A2 Wallonie Picarde":MAILTO:latitudejeunes.mwp@solidaris.be
END:VEVENT
BEGIN:VEVENT
DTSTART;VALUE=DATE:20240302
DTEND;VALUE=DATE:20240310
DTSTAMP:20260419T201336
CREATED:20240102T111913Z
LAST-MODIFIED:20240301T083529Z
UID:10001190-1709337600-1710028799@lesassociationssolidaris.be
SUMMARY:Séjour Latitude Show ! à Coxyde
DESCRIPTION:Nous t’invitons\, le temps d’un séjour\, à découvrir les joies du spectacle\, du carnaval\, des déguisements et des animations festives ! \nEntre activités sportives et carnavalesques\, ton séjour Latitude fera son show !\nNous avons tout prévu : cuistax\, piscine\, activités et animations en lien avec le thème ainsi que la visite d’une journée au parc « Plopsaland ». \n  \n\nModalités\nPublic : 12-15 ans \nLogement : Le Lys Rouge (Coxyde – Belgique)\nPension complète \nDépart : Frameries et Tournai\nTransport : Autocar\nEtre sur place une demi-heure avant le départ pour l’embarquement \nDates : Du 02/03 au 09/03/24 \nPrix : 205 €* / 450 € • 7 nuitées\n* Prix affilié·e·s Solidaris Wallonie ou Solidaris Brabant en ordre de cotisation dans la limite des plafonds définis \n[accordion] \n[toggle title= »Inclus et pas inclus dans le prix »] \nInclus dans le prix \n\nAutocar (Aller/Retour)\nPension complète\n1 à 2 excursions\nL’encadrement de qualité assuré par nos animateurs\n\n[/toggle] \n[/accordion] \n\n> Retour à l’offre de vacances\n> Retour au site régional \n\nInscription\nCe séjour est complet. \n\n 
URL:https://lesassociationssolidaris.be/event/latitude-show-coxyde-ado/
LOCATION:Le Lys Rouge / De Rode Lelie\, Parnassiusstraat 11\, Koksijde\, Flandre-Occidentale\, 8670\, Belgique
CATEGORIES:_A la une Vacances enfants et jeunes,_Toutes les Vacances enfants et jeunes,1/ Choix de région,2/ Choix de période vacances enfants et jeunes,2/ Entité,3/ Publics vacances enfants et jeunes,4/ Public,A/ Partie vacances enfants et jeunes,Adolescent·e·s,Congé de détente (Carnaval),Enfants,Enfants,Hainaut,Mons-WaPi,Prochains rendez-vous Latitude Jeunes,Séjours au départ de Frameries,Séjours au départ de Tournai,Séjours au Lys rouge
ATTACH;FMTTYPE=image/jpeg:https://lesassociationssolidaris.be/wp-content/uploads/2024/03/Acivite-LJ-complete-e1707985338900-1.jpg
ORGANIZER;CN="Latitude Jeunes - Mons %E2%80%A2 Wallonie Picarde":MAILTO:latitudejeunes.mwp@solidaris.be
END:VEVENT
END:VCALENDAR