BEGIN:VCALENDAR
VERSION:2.0
PRODID:-//Les Associations Solidaris - ECPv6.15.13.1//NONSGML v1.0//EN
CALSCALE:GREGORIAN
METHOD:PUBLISH
X-ORIGINAL-URL:https://lesassociationssolidaris.be
X-WR-CALDESC:Évènements pour Les Associations Solidaris
REFRESH-INTERVAL;VALUE=DURATION:PT1H
X-Robots-Tag:noindex
X-PUBLISHED-TTL:PT1H
BEGIN:VTIMEZONE
TZID:UTC
BEGIN:STANDARD
TZOFFSETFROM:+0000
TZOFFSETTO:+0000
TZNAME:UTC
DTSTART:20230101T000000
END:STANDARD
END:VTIMEZONE
BEGIN:VTIMEZONE
TZID:Europe/Paris
BEGIN:DAYLIGHT
TZOFFSETFROM:+0100
TZOFFSETTO:+0200
TZNAME:CEST
DTSTART:20230326T010000
END:DAYLIGHT
BEGIN:STANDARD
TZOFFSETFROM:+0200
TZOFFSETTO:+0100
TZNAME:CET
DTSTART:20231029T010000
END:STANDARD
BEGIN:DAYLIGHT
TZOFFSETFROM:+0100
TZOFFSETTO:+0200
TZNAME:CEST
DTSTART:20240331T010000
END:DAYLIGHT
BEGIN:STANDARD
TZOFFSETFROM:+0200
TZOFFSETTO:+0100
TZNAME:CET
DTSTART:20241027T010000
END:STANDARD
BEGIN:DAYLIGHT
TZOFFSETFROM:+0100
TZOFFSETTO:+0200
TZNAME:CEST
DTSTART:20250330T010000
END:DAYLIGHT
BEGIN:STANDARD
TZOFFSETFROM:+0200
TZOFFSETTO:+0100
TZNAME:CET
DTSTART:20251026T010000
END:STANDARD
END:VTIMEZONE
BEGIN:VEVENT
DTSTART;TZID=UTC:20240910T100000
DTEND;TZID=UTC:20240910T133000
DTSTAMP:20260424T221511
CREATED:20240402T143729Z
LAST-MODIFIED:20240625T121610Z
UID:10001422-1725962400-1725975000@lesassociationssolidaris.be
SUMMARY:Les assiettes du monde à Mouscron
DESCRIPTION:Vous êtes en situation de handicap et vous aimez cuisiner ? \nVous avez envie de découvrir des plats venant des 4 coins du monde ? \nVous souhaitez découvrir comment le handicap est vécu dans d’autres pays ? \nPrenez place à notre table et partageons un moment d’échange convivial autour d’un repas préparé ensemble ! \n  \n\nModalités\nPublic : Adultes en situation de handicap \nLieu : Rue du Val\, 10 à 7700 Mouscron \nDates : Les mardis 10/09\, 24/09\, 08/10\, 05/11\, 19/11\, le lundi 02/12 et le mardi 17/12/2024.\nDe 10h à 13h30 (comprenant la préparation du repas et le moment du repas) \nPrix : 35€ pour les 7 ateliers *\n*Le prix comprend l’ensemble du matériel et des denrées alimentaires.\nPayable en une fois sur base d’une facture qui vous sera communiquée suite à votre inscription.\nAnnulation et remboursement possibles uniquement sur présentation d’un certificat médical. \n  \n\nInscription\n\n\n  \n\n\n\n\n\n\n\n\n\n\n\n\n\n\n\n\nTous les champs sont obligatoires.\n \nInscription à effectuer avant le 31/03/2026\n \nVeuillez sélectionner les dates auxquelles vous vous inscrivez :\n14 avril 20265 mai 202623 juin 2026\n \n Nom du ou de la participant·e\n \n \n Prénom du ou de la participant·e\n \n \nNISS (si personne physique) ou BCE (si Institution)*\n\n \nNuméro de compte IBAN (en cas de remboursement) *\n\n \n Rue et numéro\n \n \n Code postal et commune\n \n \n Date de naissance\n \n \n Nom et prénom du responsable légal\n \n \n Numéro de téléphone de la personne de contact\n \n \n Adresse e-mail de la personne de contact\n \n \n Type de déficience :\nMentale modéréeMentale légèreMotriceComportementale \n \n Si déficience motrice ou comportementale\, veuillez décrire :\n \n \n Chaise roulante : ouinon \n \nAllergies\n\n \nRemarque\n\n \n Comment avez-vous entendu parler de cette activité ?\nLes réseaux sociauxE-mailMagazine ou brochureCourrier postalBouche à oreilleAutre \n \nJ'ai pris connaissance des conditions générales et de l'information relative à la protection des données (RGPD)* Conditions générales  -  RGPD \n \n* Tout éventuel remboursement sera effectué par l’asbl Esenca Mons-Wallonie picarde uniquement sur le numéro de compte bancaire communiqué par le participant sur le bulletin d’inscription ; il est donc impératif de remplir ce champ nécessaire à notre service comptabilité.\n \n\n\n	\n		\n		\n		\n		\n	\n\n\n\n ×\n\n\n\n\n 
URL:https://lesassociationssolidaris.be/event/assiettes-du-monde-mouscron/
LOCATION:Solidaris Mouscron\, Rue du Val 10\, Mouscron\, Province de Hainaut\, 7700\, Belgique
CATEGORIES:Esenca,Handicap,Prochains rendez-vous Esenca,Région Mons Wapi,Toutes les régions
ATTACH;FMTTYPE=image/png:https://lesassociationssolidaris.be/wp-content/uploads/2024/04/esenca-Mwp-assiettes-du-monde.png
ORGANIZER;CN="Esenca - Mons %E2%80%A2 Wallonie Picarde":MAILTO:esenca.mwp@solidaris.be
END:VEVENT
BEGIN:VEVENT
DTSTART;TZID=Europe/Paris:20240911T143000
DTEND;TZID=Europe/Paris:20240911T160000
DTSTAMP:20260424T221512
CREATED:20240502T083855Z
LAST-MODIFIED:20240903T141923Z
UID:10001447-1726065000-1726070400@lesassociationssolidaris.be
SUMMARY:Conférence – Les Rues d'Aywaille
DESCRIPTION:Participez à une conférence gratuite animée par René Henry et plongez dans l’origine des noms de rues d’Aywaille. René Henry vous guidera à travers les histoires fascinantes de personnalités locales comme François Cornesse et Alphonse Gilles\, et vous expliquera comment ces noms reflètent des réalités passées. Avec sa verve habituelle et son humour\, il vous surprendra en dévoilant le passé caché derrière les rues de notre commune. Ne manquez pas cette occasion unique de redécouvrir l’histoire de votre ville ! \n \n\nModalités\nPublic : Tout public \nLieu : Centre récréatif de Remouchamps \nDate : Le 11/09/2024 à 14h30 \nPrix : Gratuit\n \n\nInscription\n1/ Inscrivez-vous via\nthierryhody1@gmail.com – 04 384 78 82 \n2/ Validez votre inscription\nVous serez recontactés pour confirmer votre inscription et vous donner les modalités de paiement. \n\n\n\n  \n\n\n\n\n\n\n\n\n\n\n\n\n\n\n\n\nEsenca Aywaille\n\nThierry Hody : 0478 65 78 63 • thierryhody1@gmail.com\n \nEn savoir plus sur le Groupe Esenca de Aywaille\n \nLiens utiles\nSite national d'Esenca\nFacebook d'Esenca\n ×
URL:https://lesassociationssolidaris.be/event/conference-les-rues-daywaille/
LOCATION:Brabant wallon
CATEGORIES:Adultes,Esenca,Groupe Esenca Aywaille,Handicap,Prochains rendez-vous Esenca,Région Liège,Seniors
ATTACH;FMTTYPE=image/png:https://lesassociationssolidaris.be/wp-content/uploads/2023/10/Esenca-Aywaille-Banner-1500-×-1000-px.png
END:VEVENT
BEGIN:VEVENT
DTSTART;TZID=UTC:20240918T190000
DTEND;TZID=UTC:20240918T213000
DTSTAMP:20260424T221512
CREATED:20240820T090154Z
LAST-MODIFIED:20240820T090450Z
UID:10001602-1726686000-1726695000@lesassociationssolidaris.be
SUMMARY:Conférence - Qui sont les casseurs ? à Tubize
DESCRIPTION:Partout en Europe\, l’extrême droite monte… Mais que se passerait-il si elle prenait le pouvoir en Belgique …\n\n\n Pour en débattre\, Soralia Tubize organise une conférence en présence de Jean-François Tamellini\, auteur du livre « Qui sont les casseurs ? »\n\n\n« Face aux profits indécents réalisés dans certains secteurs suite au déclenchement de la guerre en Ukraine\, la cupidité des actionnaires a\, un instant\, été mise sous les feux des projecteurs. De manière bien plus visible encore que lors de crises antérieures. \nL’objectif de cet ouvrage vise à démontrer\, avant que la porte ne se referme\, que cette cupidité n’est pas un phénomène isolé et exceptionnel. Mais qu’elle est au contraire au cœur d’un système pensé\, écrit et organisé pour maximiser les profits de certains\, au mépris de tout le reste ! \nTentatives d’intimidation\, campagnes de dénigrement\, pressions sur la justice pour que prévale le droit de faire du fric avant celui de vivre ou de résister. Techniques de diversion bien huilées pour détourner les regards des véritables enjeux. \nAu fil de ces quelques pages\, je vous propose d’exposer des exemples concrets démontrant que\, contrairement au récit imposé depuis des décennies\, les casseurs et profiteurs ne se situent pas du côté vers lequel se tournent les projecteurs des JT. Mais plutôt dans l’ombre des salons feutrés. » \n\n \n\nModalités\nPublic : Dès 18 ans \nLieu : Le « 14-80 » Maison du Peuple à Tubize \nDates : Le 18/09 à 19h \nPrix : 0€ \n\n> Retour au site régional \n\nInscription\nInscrivez-vous avant le 18/09/2024 : soraliatubize@gmail.com • 010 24 37 24 \n 
URL:https://lesassociationssolidaris.be/event/conference-qui-sont-les-casseurs-a-tubize/
LOCATION:Le « 14-80 »\, Rue de la Déportation\, 66\, Tubize\, 1480\, Belgique
CATEGORIES:Adultes,Elections,Enfants,Familles,Femmes,Handicap,Jeunes,Parents,Prochains rendez-vous Soralia,Professionnels,Région Brabant Wallon,Seniors,Soralia
ATTACH;FMTTYPE=image/jpeg:https://lesassociationssolidaris.be/wp-content/uploads/2024/08/Aswal-Event-1792-x-672-px-conference-qui-sont-les-casseurs-scaled.jpg
END:VEVENT
BEGIN:VEVENT
DTSTART;TZID=UTC:20240925T190000
DTEND;TZID=UTC:20240925T213000
DTSTAMP:20260424T221512
CREATED:20240820T090441Z
LAST-MODIFIED:20240820T101610Z
UID:10001603-1727290800-1727299800@lesassociationssolidaris.be
SUMMARY:Animation - En route vers les urnes à Tubize
DESCRIPTION:Vous avez en dessous de 18 ans et allez voter pour la 1ère fois ?\n\n\nLe 13 octobre se dérouleront les élections communales et provinciales. \nVenez nous rejoindre à cette soirée où animations et discussions seront au rendez-vous\, afin de vous permettre d’en savoir plus sur les enjeux liés aux élections. \n\n \n\nModalités\nPublic : Dès 18 ans \nLieu : Le « 14-80 » Maison du Peuple à Tubize \nDates : Le 25/09 à 19h \nPrix : 0€ \n\n> Retour au site régional \n\nInscription\nInscrivez-vous avant le 24/09/2024 : soraliatubize@gmail.com • 010 24 37 24 \n 
URL:https://lesassociationssolidaris.be/event/animation-en-route-vers-les-urnes-a-tubize/
LOCATION:Le « 14-80 »\, Rue de la Déportation\, 66\, Tubize\, 1480\, Belgique
CATEGORIES:Adultes,Elections,Enfants,Familles,Femmes,Handicap,Jeunes,Parents,Prochains rendez-vous Soralia,Professionnels,Région Brabant Wallon,Seniors,Soralia
ATTACH;FMTTYPE=image/jpeg:https://lesassociationssolidaris.be/wp-content/uploads/2024/08/Aswal-Event-1792-x-672-px-en-route-vers-les-urnes-scaled.jpg
END:VEVENT
END:VCALENDAR