BEGIN:VCALENDAR
VERSION:2.0
PRODID:-//Les Associations Solidaris - ECPv6.15.13.1//NONSGML v1.0//EN
CALSCALE:GREGORIAN
METHOD:PUBLISH
X-WR-CALNAME:Les Associations Solidaris
X-ORIGINAL-URL:https://lesassociationssolidaris.be
X-WR-CALDESC:Évènements pour Les Associations Solidaris
REFRESH-INTERVAL;VALUE=DURATION:PT1H
X-Robots-Tag:noindex
X-PUBLISHED-TTL:PT1H
BEGIN:VTIMEZONE
TZID:UTC
BEGIN:STANDARD
TZOFFSETFROM:+0000
TZOFFSETTO:+0000
TZNAME:UTC
DTSTART:20240101T000000
END:STANDARD
END:VTIMEZONE
BEGIN:VEVENT
DTSTART;TZID=UTC:20250315T180000
DTEND;TZID=UTC:20250315T213000
DTSTAMP:20260424T150506
CREATED:20250131T125046Z
LAST-MODIFIED:20250131T125046Z
UID:10001992-1742061600-1742074200@lesassociationssolidaris.be
SUMMARY:Festival - Women Wavre à Wavre
DESCRIPTION:Ciné-débat du film « Portrait de la jeune fille en feu » de Céline Sciamma\n\n Du 12 aux 16 mars\, la Ville de Wavre et ses partenaires vous invitent à des expos\, des ateliers\, des spectacles et même à une soirée électro ! \n\nOn discute sans tabou des questions de violences et d’égalité pour porter fièrement les droits des femmes et œuvrer ensemble pour construire un avenir plus égalitaire pour tous et toutes. Voici Women Wavre 2025.\n\n\nLes thématiques centrales de cette 6e édition sont le consentement et la culture du viol. Celle-ci désigne l’ensemble des comportements banalisant\, excusant et justifiant les agressions sexuelles\, souvent transformées en plaisanteries\, et la réduction du corps des femmes à un objet pour les hommes. Elle crée un climat où la responsabilité de l’agression repose sur la victime et où sa parole est remise en question. Alimentée par les inégalités entre les sexes\, cette culture est normalisée dans la société. La nommer est le premier pas pour la démanteler.\n\n\nÀ la suite de la projection du film « Portrait de la jeune fille en feu » de Céline Sciamma\, Soralia BW proposera un bord de scène sur le thème du female gaze. Une exploration fascinante du regard féminin au cinéma. Comment influence-t-il la narration\, la mise en scène\, les personnages … ? \n\n \n\nModalités\nPublic : Dès 18 ans \nLieu : Maison des Jeunes Vitamine Z (Wavre) \nDates : Le 15/03/2025 à 18h \nPrix : Gratuit \n\n> Retour au site régional \n\nInscription\nInscrivez-vous avant le 11/03/2025 : soralia.bw@solidaris.be ou 010/24.37.24
URL:https://lesassociationssolidaris.be/event/festival-women-wavre-a-wavre/
LOCATION:Maison des Jeunes Vitamine Z\, Avenue des Déportés 79\, Wavre\, Brabant walon\, 1300\, Belgium
CATEGORIES:Adultes,Droits des femmes,Familles,Femmes,Handicap,Jeunes,Parents,Prochains rendez-vous Soralia,Professionnels,Région Brabant Wallon,Seniors,Soralia
ATTACH;FMTTYPE=image/jpeg:https://lesassociationssolidaris.be/wp-content/uploads/2025/01/Aswal-Event-1792-x-672-px-women-wavre-scaled.jpg
END:VEVENT
END:VCALENDAR