BEGIN:VCALENDAR
VERSION:2.0
PRODID:-//Les Associations Solidaris - ECPv6.15.13.1//NONSGML v1.0//EN
CALSCALE:GREGORIAN
METHOD:PUBLISH
X-ORIGINAL-URL:https://lesassociationssolidaris.be
X-WR-CALDESC:Évènements pour Les Associations Solidaris
REFRESH-INTERVAL;VALUE=DURATION:PT1H
X-Robots-Tag:noindex
X-PUBLISHED-TTL:PT1H
BEGIN:VTIMEZONE
TZID:UTC
BEGIN:STANDARD
TZOFFSETFROM:+0000
TZOFFSETTO:+0000
TZNAME:UTC
DTSTART:20250101T000000
END:STANDARD
END:VTIMEZONE
BEGIN:VEVENT
DTSTART;VALUE=DATE:20260307
DTEND;VALUE=DATE:20260308
DTSTAMP:20260421T001530
CREATED:20260126T110907Z
LAST-MODIFIED:20260126T120327Z
UID:10002701-1772841600-1772927999@lesassociationssolidaris.be
SUMMARY:Evènement - Cycloparade féministe 2026 à Verviers
DESCRIPTION:Rejoignez-nous le 7 mars dans les rues de Verviers pour manifester et défendre les droits des femmes et des minorités de genre !\n\nPour la 3e année consécutive\, nous vous convions\, avec d’autres actuers de la Ville\, à la Cycloparade féministe ! \nNotre présence dans l’espace public est un symbole fort qui réaffirme la véritable signification de cette journée. Il ne s’agit pas d’une célébration stéréotypée\, mais d’une marche pour les droits des femmes ! Dans de nombreuses régions du monde\, être une femme à vélo est encore considéré comme un acte punissable. Ensemble\, nous sommes plus fort·es ! Rejoignez-nous. \n  \n \nProgramme de la journée :\nPlus d’infos à venir \n\nModalités\nPublic : tout public \nLieu :  [sera communiqué prochainement] \nParade : venez à vélo\, en trottinette… ou tout autre objet roulant ou à pied\, avec vos slogans\, vos revendications… \nPlus d’infos : [sera communiqué prochainement] \nRejoignez l’évènement Facebook :[sera communiqué prochainement]
URL:https://lesassociationssolidaris.be/event/evenement-cycloparade-feministe-2026-a-verviers/
CATEGORIES:Adultes,Droits des femmes,Droits des femmes Liège,Enfants,Esenca,Familles,Femmes,Handicap,Jeunes,Prochains rendez-vous Soralia,Région Liège,Seniors,Soralia
ATTACH;FMTTYPE=image/png:https://lesassociationssolidaris.be/wp-content/uploads/2026/01/Copie-de-SoraliaLg_CafePapote_Site_26.png
END:VEVENT
END:VCALENDAR