BEGIN:VCALENDAR
VERSION:2.0
PRODID:-//Les Associations Solidaris - ECPv6.15.13.1//NONSGML v1.0//EN
CALSCALE:GREGORIAN
METHOD:PUBLISH
X-WR-CALNAME:Les Associations Solidaris
X-ORIGINAL-URL:https://lesassociationssolidaris.be
X-WR-CALDESC:Évènements pour Les Associations Solidaris
REFRESH-INTERVAL;VALUE=DURATION:PT1H
X-Robots-Tag:noindex
X-PUBLISHED-TTL:PT1H
BEGIN:VTIMEZONE
TZID:UTC
BEGIN:STANDARD
TZOFFSETFROM:+0000
TZOFFSETTO:+0000
TZNAME:UTC
DTSTART:20250101T000000
END:STANDARD
END:VTIMEZONE
BEGIN:VEVENT
DTSTART;TZID=UTC:20260308T110000
DTEND;TZID=UTC:20260308T170000
DTSTAMP:20260421T000334
CREATED:20240209T111603Z
LAST-MODIFIED:20260217T092509Z
UID:10001357-1772967600-1772989200@lesassociationssolidaris.be
SUMMARY:Evènement - Cycloparade féministe 2026 à Liège
DESCRIPTION:Rejoignez-nous le 8 mars dans les rues de Liège pour manifester et défendre les droits économiques des femmes !\n\n\nPour la 9ᵉ année consécutive\, la plateforme Collectives et Ardentes organise la Cycloparade féministe à Liège. \nLe 8 mars 2026\, à l’occasion de la Journée internationale des droits des femmes\, nous nous retrouverons au Trinkhall (Parc d’Avroy). \n\n\nEn 2025\, nous étions plus de 3 000. En 2026\, on continue. \nCette année\, la Cycloparade est placée sous le thème des Résistances. \nCélébrer les résistances féministes\, passées et présentes\, c’est honorer celles et ceux qui ont lutté hier et celles et ceux qui continuent\, parfois au péril de leur vie\, de le faire aujourd’hui. \n\nC’est rappeler que nos droits sont le fruit de luttes collectives.\n\nC’est aussi nourrir la force commune et légitimer notre colère pour continuer la lutte. \nÀ pied\, à vélo ou avec tout autre objet roulant\, avec nos pancartes\, nos voix et notre énergie\, nous occupons l’espace public pour rappeler une chose simple et essentielle : Quand les femmes s’arrêtent\, le monde s’arrête. \n\n\n \n  \nProgramme de la journée* :\n11h00 : Rendez-vous au Trinkhall au Parc d’Avroy à Liège pour l’ ouverture du village associatif et des animations.\n13h30 : prises de parole\, chorales et animations.\n14h30 : départ de la Cycloparade.\n17h00 : Retour et clôture de l’événement. \nRetrouvez-nous au stand Soralia pour « Puncher ton mascu ! »\nMarre des punchlines sexistes et des remarques de mascu ? Viens tester ton art de la riposte ! Tire une attaque d’un masculiniste et trouve la réplique féministe qui claque. Et pour les plus téméraires… Mets tes gants de boxe et botte les idées reçues du mascu !\nRepars prêt·e à répondre à toutes les attaques \n\n\nModalités\nPublic : tout public • avec ou sans handicap (accessibilité PMR) \nLieu :  Trinkhall Café (Parc d’Avroy\, 1 • Liège) \nParade : venez à vélo\, en trottinette… ou tout autre objet roulant ou à pied\, avec vos slogans\, vos revendications… \nPlus d’infos : www.cycloparade.be \nRejoignez la page Facebook de Collectives et Ardentes
URL:https://lesassociationssolidaris.be/event/evenement-cycloparade-feminist26e-a-liege/
LOCATION:B3\, Place des Arts\, 1\, Liège\, Liège\, 4020\, Belgium
CATEGORIES:Adultes,Droits des femmes,Droits des femmes Liège,Enfants,Esenca,Familles,Femmes,Handicap,Jeunes,Prochains rendez-vous Soralia,Région Liège,Seniors,Soralia
ATTACH;FMTTYPE=image/png:https://lesassociationssolidaris.be/wp-content/uploads/2024/02/Cover-Site-Cycloparade-2026-1.png
END:VEVENT
END:VCALENDAR