BEGIN:VCALENDAR
VERSION:2.0
PRODID:-//Les Associations Solidaris - ECPv6.15.13.1//NONSGML v1.0//EN
CALSCALE:GREGORIAN
METHOD:PUBLISH
X-WR-CALNAME:Les Associations Solidaris
X-ORIGINAL-URL:https://lesassociationssolidaris.be
X-WR-CALDESC:Évènements pour Les Associations Solidaris
REFRESH-INTERVAL;VALUE=DURATION:PT1H
X-Robots-Tag:noindex
X-PUBLISHED-TTL:PT1H
BEGIN:VTIMEZONE
TZID:UTC
BEGIN:STANDARD
TZOFFSETFROM:+0000
TZOFFSETTO:+0000
TZNAME:UTC
DTSTART:20250101T000000
END:STANDARD
END:VTIMEZONE
BEGIN:VEVENT
DTSTART;VALUE=DATE:20260318
DTEND;VALUE=DATE:20260319
DTSTAMP:20260421T000415
CREATED:20250123T123627Z
LAST-MODIFIED:20260224T101147Z
UID:10001953-1773792000-1773878399@lesassociationssolidaris.be
SUMMARY:Ludocité à Liège
DESCRIPTION:La Fête des jeux est de retour !\n\nLudocité 2026 est un événement incontournable qui célèbre l’univers du jeu sous toutes ses formes\, offrant une expérience ludique\, créative et interactive pour tous les âges. Organisé par les ludothèques de l’événement\, il invite les participants à plonger dans un monde de jeux de société\, d’ateliers artistiques et de découvertes sensorielles\, tout en favorisant les échanges et l’inclusion. \n \n\nRetrouvez toutes les infos en cliquant ici
URL:https://lesassociationssolidaris.be/event/ludocite-2026-a-liege/
LOCATION:Les Associations Solidaris – Longdoz\, Rue Edouard Remouchamps 2\, Liège\, Province de Liège\, 4020\, Belgique
CATEGORIES:Adultes,Enfants,Esenca,Esenca Ludo,Familles,Handicap,Jeunes,Latitude Jeunes,Latitude Ludo,Lieu de rencontre enfants et parents,Parents,Prochains rendez-vous Esenca,Prochains rendez-vous Latitude Jeunes,Prochains rendez-vous Soralia,Région Liège,Seniors,Soralia,Stages Esenca Liège
ATTACH;FMTTYPE=image/png:https://lesassociationssolidaris.be/wp-content/uploads/2025/01/PC-vs-Smartphone.png
ORGANIZER;CN="Latitude Jeunes - Li%C3%A8ge":MAILTO:latitudejeunes.liege@solidaris.be
END:VEVENT
END:VCALENDAR