BEGIN:VCALENDAR
VERSION:2.0
PRODID:-//Les Associations Solidaris - ECPv6.15.13.1//NONSGML v1.0//EN
CALSCALE:GREGORIAN
METHOD:PUBLISH
X-ORIGINAL-URL:https://lesassociationssolidaris.be
X-WR-CALDESC:Évènements pour Les Associations Solidaris
REFRESH-INTERVAL;VALUE=DURATION:PT1H
X-Robots-Tag:noindex
X-PUBLISHED-TTL:PT1H
BEGIN:VTIMEZONE
TZID:UTC
BEGIN:STANDARD
TZOFFSETFROM:+0000
TZOFFSETTO:+0000
TZNAME:UTC
DTSTART:20250101T000000
END:STANDARD
END:VTIMEZONE
BEGIN:VEVENT
DTSTART;VALUE=DATE:20260321
DTEND;VALUE=DATE:20260322
DTSTAMP:20260421T020604
CREATED:20260126T122350Z
LAST-MODIFIED:20260126T122350Z
UID:10002703-1774051200-1774137599@lesassociationssolidaris.be
SUMMARY:Evènement - Festival interculturalité 2026 à Verviers
DESCRIPTION:Pour se rassembler\, se questionner et faire le plein d’énergie positive !\n\nÀ l’occasion de la Journée internationale pour l’élimination de la discrimination raciale\, célébrée chaque année le 21 mars\, une dizaine de partenaires du tissu associatif disonais et verviétois vous proposeront d’explorer différentes facettes de l’interculturalité à travers plusieurs événements.\nUn festival pour se confronter à certaines réalités\, se mobiliser\, mais aussi faire le plein d’énergie positive ! \nProgramme :\nde 12h à 14h : Village associatif et militant (stands de sensibilisation / petite restauration et bar)\nde 14h à 16h : marche contre le racisme\nde 16h à 18h : village associatif + scène (diverses activités à confirmer) \nDans le cadre du festival\, Soralia Verviers sera présente pour tenir un stand de sensibilisation axés sur les femmes migrantes avec divers jeux féministes. \n \nUne collaboration du Crvi Asbl\, La Belle Diversité\, Espace 28\, Centre Culturel De Dison\, Centre culturel de Verviers\, Ville de Verviers\, Pac Régionale Verviers\, Plan De Prévention Verviers\, Bibliothèque de Verviers\, Arc Verviers Asbl\, Ciep Verviers ASBL. \n  \n\nModalités\nPublic : tout public \nDate : Le samedi 21 mars \nLieu : Place Verte (Verviers · Belgique) \nRejoignez l’évènement Facebook :[sera communiqué prochainement]
URL:https://lesassociationssolidaris.be/event/evenement-festival-interculturalite-2026-a-verviers/
CATEGORIES:Adultes,Droits des femmes,Droits des femmes Liège,Enfants,Esenca,Familles,Femmes,Handicap,Jeunes,Prochains rendez-vous Soralia,Région Liège,Seniors,Soralia
ATTACH;FMTTYPE=image/png:https://lesassociationssolidaris.be/wp-content/uploads/2026/01/SoraliaVvs_FestInt_Site_26.png
END:VEVENT
END:VCALENDAR