BEGIN:VCALENDAR
VERSION:2.0
PRODID:-//Les Associations Solidaris - ECPv6.15.13.1//NONSGML v1.0//EN
CALSCALE:GREGORIAN
METHOD:PUBLISH
X-WR-CALNAME:Les Associations Solidaris
X-ORIGINAL-URL:https://lesassociationssolidaris.be
X-WR-CALDESC:Évènements pour Les Associations Solidaris
REFRESH-INTERVAL;VALUE=DURATION:PT1H
X-Robots-Tag:noindex
X-PUBLISHED-TTL:PT1H
BEGIN:VTIMEZONE
TZID:UTC
BEGIN:STANDARD
TZOFFSETFROM:+0000
TZOFFSETTO:+0000
TZNAME:UTC
DTSTART:20230101T000000
END:STANDARD
END:VTIMEZONE
BEGIN:VEVENT
DTSTART;TZID=UTC:20240529T180000
DTEND;TZID=UTC:20240529T200000
DTSTAMP:20260419T141818
CREATED:20240513T083700Z
LAST-MODIFIED:20240516T111742Z
UID:10001459-1717005600-1717012800@lesassociationssolidaris.be
SUMMARY:Grand quizz santé des femmes à La Bouverie
DESCRIPTION:Dans le cadre du 28 mai\, journée internationale d’action pour la santé des femmes\, Soralia Mons Borinage et Soralia Wallonie Picarde vous proposent différentes activités sur leur régionale. \nGrand quizz santé des femmes\norganisé par le comité local Soralia de La Bouverie \nEn Solo ou en équipe\, soyez une référence en santé des femmes ! \nCadeaux à la clé ! \n  \n\nModalités\nPublic : tout public \nLieu : Maison du Peuple de La Bouverie – rue de la colline\, 63 \nDate : Le mercredi 29 mai 2024 de 18h à 20h \n  \n\nInscription\nInscription obligatoire \nSoralia Mons Borinage : 068/84 84 98 – soralia.mwp@solidaris.be
URL:https://lesassociationssolidaris.be/event/quizz-sante-femmes-la-bouverie/
LOCATION:Maison du peuple La Bouverie\, Rue de la Colline 63\, La Bouverie\, Hainaut\, 7080\, Belgique
CATEGORIES:Adultes,Femmes,Organisé par Soralia,Prochains rendez-vous Soralia,Région Hainaut,Région Mons Wapi,Seniors,Soralia,x/ Utilitaires
ATTACH;FMTTYPE=image/png:https://lesassociationssolidaris.be/wp-content/uploads/2024/04/SoraliaMwp-action-sante-des-femmes.png
ORGANIZER;CN="Soralia Mons Borinage":MAILTO:soralia.mwp@solidaris.be
END:VEVENT
BEGIN:VEVENT
DTSTART;TZID=UTC:20240529T180000
DTEND;TZID=UTC:20240529T203000
DTSTAMP:20260419T141818
CREATED:20240425T115447Z
LAST-MODIFIED:20240513T084445Z
UID:10001443-1717005600-1717014600@lesassociationssolidaris.be
SUMMARY:Atelier-débat "Voter c'est décider" à Frameries
DESCRIPTION:Modalités\nPublic : Tout public \nLieu : Maison du Peuple de Frameries – Place Defuisseaux 5 \nDate : Le mercredi 29 mai de 18h à 20h30 \nActivité gratuite  \n  \n\nInscription\nSoralia Mons Borinage\n068/84 84 98 – soralia.mwp@solidaris.be
URL:https://lesassociationssolidaris.be/event/voter-decider-frameries/
LOCATION:Maison du peuple Frameries\, Place Deffuisseaux 5\, Frameries\, Hainaut\, 7080\, Belgique
CATEGORIES:Comité local Soralia Frameries,Elections,Familles,Femmes,Jeunes,Organisé par Soralia,Prochains rendez-vous Soralia,Région Hainaut,Région Mons Wapi,Soralia,x/ Utilitaires
ATTACH;FMTTYPE=image/jpeg:https://lesassociationssolidaris.be/wp-content/uploads/2024/05/Aswal-Event-1792-x-672-px-Voter-cest-decider-scaled.jpg
ORGANIZER;CN="comit%C3%A9 local Soralia Frameries":MAILTO:soralia.mwp@solidaris.be
END:VEVENT
END:VCALENDAR